<?xml version="1.0" encoding="UTF-8" standalone="no"?>
<metadata>
<idinfo>
<citation>
<citeinfo>
<origin>USDA-FSA-APFO</origin>
<pubdate>20171220</pubdate>
<title>USDA-FSA-APFO Digital Ortho Mosaic</title>
<pubinfo>
<pubplace>Salt Lake City, Utah</pubplace>
<publish>USDA_FSA_APFO Aerial Photography Field Office</publish>
</pubinfo>
</citeinfo>
</citation>
<descript>
<abstract>
This data set contains imagery from the National
Agriculture Imagery Program (NAIP). The NAIP
acquires digital ortho imagery during the
agricultural growing seasons in the continental U.S..
A primary goal of the NAIP program is to enable
availability of ortho imagery within one year of
acquisition. The NAIP provides two main products: 1
meter ground sample distance (GSD) ortho imagery
rectified to a horizontal accuracy within +/- 5 meters
of reference digital ortho quarter quads (DOQQ's) from
the National Digital Ortho Program (NDOP) or from the
National Agriculture Imagery Program (NAIP); 1 meter
or 60cm GSD ortho imagery rectified within +/- 6
meters to true ground. The tiling format of NAIP imagery is
based on a 3.75' x 3.75' quarter quadrangle with a 300
pixel buffer on all four sides. The NAIP imagery is
formatted to the UTM coordinate system using the North
American Datum of 1983 (NAD83). The NAIP imagery may
contain as much as 10% cloud cover per tile. This file
was generated by compressing NAIP imagery that covers
the county extent. Two types of compression may be
used for NAIP imagery: MrSID and JPEG 2000. The target
value for the compression ratio is 15:1 for the 1 meter
imagery and 60:1 for the 60cm imagery.
</abstract>
<purpose>
The NAIP imagery is typically available for distribution
within 60 days of the end of a flying season and is intended
to provide current information of agricultural conditions
in support of USDA farm programs. For USDA Farm Service
Agency, the 1 meter and 60cm GSD product provides an
ortho image base for Common Land Unit boundaries and other
data sets. The NAIP imagery is generally acquired in
projects covering full states in cooperation with state
government and other federal agencies who use the
imagery for a variety of purposes including land use
planning and natural resource assessment. The NAIP is
also used for disaster response often providing the most
current pre-event imagery.
</purpose>
</descript>
<timeperd>
<timeinfo>
<sngdate>
<caldate>2017</caldate>
</sngdate>
</timeinfo>
<current>Photography Source Image Dates.</current>
</timeperd>
<status>
<progress>Complete</progress>
<update>Irregular</update>
</status>
<spdom>
<bounding>
<westbc>-105.944546</westbc>
<eastbc>-105.370011</eastbc>
<northbc>39.879670</northbc>
<southbc>39.556455</southbc>
</bounding>
</spdom>
<keywords>
<theme>
<themekt>None</themekt>
<themekey>farming</themekey>
<themekey>Digital Ortho Rectified Image</themekey>
<themekey>Mosaic</themekey>
<themekey>Quarter Quadrangle</themekey>
<themekey>Ortho Rectification</themekey>
<themekey>Compression</themekey>
<themekey>MrSID</themekey>
<themekey>JPEG 2000</themekey>
<themekey>NAIP</themekey>
<themekey>Compliance</themekey>
<themekey>Aerial Compliance</themekey>
</theme>
<place>
<placekt>Geographic Names Information System</placekt>
<placekey>CO</placekey>
<placekey>Clear Creek</placekey>
<placekey>Clear Creek CO CO FSA</placekey>
<placekey>08019</placekey>
</place>
</keywords>
<accconst>There are no limitations for access.</accconst>
<useconst>
None, The USDA-FSA Aerial Photography Field Office asks to
be credited in derived products.
If defects are found in the NAIP imagery during the 1 year
warranty period such as horizontal offsets, replacement imagery
may be provided. Imagery containing defects that require the
acquisition of new imagery, such as excessive cloud cover,
specular reflectance, etc., will not be replaced within a
NAIP project year.
</useconst>
<ptcontac>
<cntinfo>
<cntorgp>
<cntorg>USDA-FSA Aerial Photography Field Office</cntorg>
</cntorgp>
<cntaddr>
<addrtype>mailing and physical address</addrtype>
<address>2222 West 2300 South</address>
<city>Salt Lake City</city>
<state>Utah</state>
<postal>84119-2020</postal>
<country>USA</country>
</cntaddr>
<cntvoice>801-844-2922</cntvoice>
<cntfax>801-956-3653</cntfax>
<cntemail>apfo.sales@slc.usda.gov</cntemail>
</cntinfo>
</ptcontac>
<browse>
<browsen>withheld</browsen>
<browsed>None</browsed>
<browset>None</browset>
</browse>
<native>
NAIP 3.75 Quarter Quadrangles mosaicked into a County format
using data compression software. The target values for the
compression ratio are 15:1 for the 1 meter imagery and 60:1
for the 60cm imagery.
</native>
</idinfo>
<dataqual>
<logic>
NAIP 3.75 minute tile file names are based
on the USGS quadrangle naming convention.
</logic>
<complete>None</complete>
<posacc>
<horizpa>
<horizpar>NAIP Specifications</horizpar>
</horizpa>
<vertacc>
<vertaccr>N/A 2d only</vertaccr>
</vertacc>
</posacc>
<lineage>
<srcinfo>
<srccite>
<citeinfo>
<origin>USDA-FSA Aerial Photography Field Office</origin>
<pubdate>20171220</pubdate>
<title>Clear Creek, CO</title>
</citeinfo>
</srccite>
<srcscale>12000</srcscale>
<typesrc>External Media Types</typesrc>
<srctime>
<timeinfo>
<sngdate>
<caldate>2017</caldate>
</sngdate>
</timeinfo>
<srccurr>Majority Aerial Photography Date</srccurr>
</srctime>
<srccitea>MrSID Compressed Image</srccitea>
<srccontr>Mosaicked County Image</srccontr>
</srcinfo>
<procstep>
<procdesc>
Digital imagery was collected at a nominal GSD of
40cm using nine Cessna 441, one Reims F406, one Piper and
one Merlin aircraft flying at an average flight height of
8400m AGL for the SH120 acquisition and 4400m AGL for
SH100 acquisition. Aircraft flew with Leica Geosystem's
ADS100/SH100 digital sensors with firmware 4.57 or
ADS100/SH120 digital sensors with firmware 4.57. Each
sensor collected 12 image bands Red,Green,Blue and
Near-infrared at each of three look angles; Backward 19
degrees, Forward 26 degrees and Nadir for the SH100.
Backward 10 degrees, Forward 14 degrees, and Nadir for
the SH120. The Nadir Green band was collected in high
resolution mode effectively doubling the resolution for
that band. The ADS100 spectral ranges are; Red 619-651nm,
Green 525-585nm, Blue 435-495nm and Near-infrared at
808-882nm. The CCD arrays have a pixel size of 5.0 microns
in a 20000x1 format at nadir; a 18000x1 format at the
backward look angle and a 16000x1 format at the forward
look angle. The CCD's have a dynamic range of 72db and
the A/D converters have a resolution of 14bits. The ADS
is a push-broom sensor the ground footprint of the imagery
is approximately 8km wide at a nominal 40cm GSD by the
length flightline. The maximum flightline length is limited
to approximately 175km. The factory calibrations and IMU
alignments for each sensor (Serial Numbers: 10511,10512,
10514,10522,10527,10530,10531,10534,10540,10554,12502)
were tested and verified by in-situ test flights before
the start of the project. The Leica MissionPro Flight
Planning Software is used to develop the flight acquisition
plans. Flight acquisition sub blocks are designed first to
define the GNSS base station logistics, and to break
the project up into manageable acquisition units. The
flight acquisition sub blocks are designed based on
the specified acquisition season, native UTM zone of
the DOQQs, flight line length limitations (to ensure
sufficient performance of the IMU solution) as well
as air traffic restrictions in the area. Once the sub
blocks have been delineated they are brought into
MissionPro for flight line design. The design
parameters used in MissionPro will be 30% lateral
overlap and 40cm resolution. The flight lines
have been designed with a north/south orientation or
east/west where required for efficiency.
The design takes into account the latitude of the
state, which affects line spacing due to convergence
as well as the terrain. SRTM elevation data is
used in the MissionPro design to ensure the 50cm
GSD is achieved over all types of terrain. The raw
data was downloaded from the sensors after each
flight using Leica XPro software. The imagery was
then georeferenced using the 200Hz GPS/INS data
creating an exterior orientation for each scan line
(x/y/z/o/p/k). Leica Xpro APM software was used to
automatically generate tiepoint measurements between
the forward, nadir and backward look angles for each line
and to tie all flight lines together. The resulting point
data and exterior orientation data were used to perform
a full bundle adjustment using ORIMA software. Blunders
were removed, and additional tie points measured in weak
areas to ensure a robust solution. Once the point data
was clean and point coverage was acceptable,
photo-identifiable GPS-surveyed ground control points
were introduced into the block adjustment. The bundle
adjustment process produces revised exterior orientation
data for the sensor with GPS/INS, datum, and sensor
calibration errors modeled and removed. Using the
revised exterior orientation from the bundle adjustment,
orthorectified image strips were created with Xpro
software and the June 2014 USGS 10m NED DEM. The Xpro
orthorectification software applies an atmospheric-BRDF
radiometric correction to the imagery. This correction
compensates for atmospheric absorption, solar
illumination angle and bi-directional reflectance. The
orthorectified strips were then overlaid with each other
and the ground control to check accuracy. Once the accuracy
of the orthorectified image strips were validated the
strips were then imported into Inpho's OrthoVista 7.0
package which was used for the final radiometric
balance, mosaic, and DOQQ sheet creation. The final
DOQQ sheets, with a 300m buffer and a ground pixel
resolution of 1m or 60cm were then combined and compressed
to create the county wide CCMs.
</procdesc>
<procdate>20171220</procdate>
</procstep>
</lineage>
</dataqual>
<spdoinfo>
<indspref>Clear Creek, CO</indspref>
<direct>Raster</direct>
<rastinfo>
<rasttype>Pixel</rasttype>
<rowcount Sync="TRUE">35803</rowcount>
<colcount Sync="TRUE">49202</colcount>
<rastxsz Sync="TRUE">3.280833</rastxsz>
<rastysz Sync="TRUE">3.280833</rastysz>
<rastbpp Sync="TRUE">8</rastbpp>
<vrtcount Sync="TRUE">1</vrtcount>
<rastorig Sync="TRUE">Upper Left</rastorig>
<rastcmap Sync="TRUE">FALSE</rastcmap>
<rastcomp Sync="TRUE">LZ77</rastcomp>
<rastband Sync="TRUE">3</rastband>
<rastdtyp Sync="TRUE">pixel codes</rastdtyp>
<rastifor Sync="TRUE">SDR</rastifor>
<rastplyr Sync="TRUE">TRUE</rastplyr>
</rastinfo>
</spdoinfo>
<spref>
<horizsys>
<planar>
<planci>
<plance>row and column</plance>
<coordrep>
<absres>1</absres>
<ordres>1</ordres>
</coordrep>
<plandu>meters</plandu>
</planci>
</planar>
<geodetic>
<horizdn>North American Datum of 1983</horizdn>
<ellips>Geodetic Reference System 80</ellips>
<semiaxis>6378137</semiaxis>
<denflat>298.257</denflat>
</geodetic>
</horizsys>
</spref>
<eainfo>
<overview>
<eaover>8-bit pixels per band, 3 band RGB represent brightness values 0 - 255</eaover>
<eadetcit>None</eadetcit>
</overview>
</eainfo>
<distinfo>
<distrib>
<cntinfo>
<cntperp>
<cntper>Supervisor Customer Services Section</cntper>
<cntorg>USDA-FSA Aerial Photography Field Office</cntorg>
</cntperp>
<cntaddr>
<addrtype>mailing and physical address</addrtype>
<address>2222 West 2300 South</address>
<city>Salt Lake City</city>
<state>Utah</state>
<postal>84119-2020</postal>
<country>USA</country>
</cntaddr>
<cntvoice>801-844-2922</cntvoice>
<cntfax>801-956-3653</cntfax>
<cntemail>apfo.sales@slc.usda.gov</cntemail>
</cntinfo>
</distrib>
<resdesc>Mosaicked County Image for Clear Creek, CO</resdesc>
<distliab>
In no event shall the creators, custodians, or distributors
of this information be liable for any damages arising out
of its use (or the inability to use it).
</distliab>
<stdorder>
<digform>
<digtinfo>
<formname>Compressed County Mosaic</formname>
<formcont>Natural Color</formcont>
</digtinfo>
<digtopt>
<onlinopt>
<computer>
<networka>
<networkr>withheld</networkr>
</networka>
</computer>
</onlinopt>
<offoptn>
<offmedia>DVD-R</offmedia>
<recfmt>ISO 9660</recfmt>
</offoptn>
<offoptn>
<offmedia>USB Hard Disk</offmedia>
<recfmt>NTFS</recfmt>
</offoptn>
<offoptn>
<offmedia>FireWire Hard Disk</offmedia>
<recfmt>NTFS</recfmt>
</offoptn>
<offoptn>
<offmedia>Flash drive</offmedia>
<recfmt>Fat32 or NTFS</recfmt>
</offoptn>
</digtopt>
</digform>
<fees>
Contact the Aerial Photography Field Office
for more information
</fees>
</stdorder>
</distinfo>
<metainfo>
<metd>20171220</metd>
<metc>
<cntinfo>
<cntorgp>
<cntorg>USDA-FSA Aerial Photography Field Office</cntorg>
</cntorgp>
<cntaddr>
<addrtype>mailing and physical address</addrtype>
<address>2222 West 2300 South</address>
<city>Salt Lake City</city>
<state>Utah</state>
<postal>84119-2020</postal>
<country>USA</country>
</cntaddr>
<cntvoice>801-844-2900</cntvoice>
</cntinfo>
</metc>
<metstdn>Content Standard for Digital Geospatial Metadata</metstdn>
<metstdv>FGDC-STD-001-1998</metstdv>
</metainfo>
<dataIdInfo>
<envirDesc Sync="FALSE">Esri ArcGIS 10.5.0.6491</envirDesc>
<dataLang>
<languageCode Sync="TRUE" value="eng">
</languageCode>
<countryCode Sync="TRUE" value="USA">
</countryCode>
</dataLang>
<idCitation>
<resTitle Sync="FALSE">torreys.SDE_LOADER.NAIP_17</resTitle>
<presForm>
<PresFormCd Sync="TRUE" value="011">
</PresFormCd>
</presForm>
</idCitation>
<spatRpType>
<SpatRepTypCd Sync="TRUE" value="002">
</SpatRepTypCd>
</spatRpType>
<dataExt>
<geoEle>
<GeoBndBox esriExtentType="search">
<exTypeCode Sync="TRUE">1</exTypeCode>
<westBL Sync="TRUE">-105.944562</westBL>
<eastBL Sync="TRUE">-105.369412</eastBL>
<northBL Sync="TRUE">39.879740</northBL>
<southBL Sync="TRUE">39.556439</southBL>
</GeoBndBox>
</geoEle>
</dataExt>
<idAbs>This data set contains imagery from the National
Agriculture Imagery Program (NAIP). The NAIP
acquires digital ortho imagery during the
agricultural growing seasons in the continental U.S..
A primary goal of the NAIP program is to enable
availability of ortho imagery within one year of
acquisition. The NAIP provides two main products: 1
meter ground sample distance (GSD) ortho imagery
rectified to a horizontal accuracy within +/- 5 meters
of reference digital ortho quarter quads (DOQQ's) from
the National Digital Ortho Program (NDOP) or from the
National Agriculture Imagery Program (NAIP); 1 meter
or 60cm GSD ortho imagery rectified within +/- 6
meters to true ground. The tiling format of NAIP imagery is
based on a 3.75' x 3.75' quarter quadrangle with a 300
pixel buffer on all four sides. The NAIP imagery is
formatted to the UTM coordinate system using the North
American Datum of 1983 (NAD83). The NAIP imagery may
contain as much as 10% cloud cover per tile. This file
was generated by compressing NAIP imagery that covers
the county extent. Two types of compression may be
used for NAIP imagery: MrSID and JPEG 2000. The target
value for the compression ratio is 15:1 for the 1 meter
imagery and 60:1 for the 60cm imagery.</idAbs>
<searchKeys>
<keyword>CO</keyword>
<keyword>Clear Creek</keyword>
<keyword>Clear Creek CO CO FSA</keyword>
<keyword>08019</keyword>
<keyword>farming</keyword>
<keyword>Digital Ortho Rectified Image</keyword>
<keyword>Mosaic</keyword>
<keyword>Quarter Quadrangle</keyword>
<keyword>Ortho Rectification</keyword>
<keyword>Compression</keyword>
<keyword>MrSID</keyword>
<keyword>JPEG 2000</keyword>
<keyword>NAIP</keyword>
<keyword>Compliance</keyword>
<keyword>Aerial Compliance</keyword>
</searchKeys>
<idPurp>The NAIP imagery is from 2017.</idPurp>
<idCredit/>
<resConst>
<Consts>
<useLimit/>
</Consts>
</resConst>
</dataIdInfo>
<mdLang>
<languageCode Sync="TRUE" value="eng">
</languageCode>
<countryCode Sync="TRUE" value="USA">
</countryCode>
</mdLang>
<mdChar>
<CharSetCd Sync="TRUE" value="004">
</CharSetCd>
</mdChar>
<Esri>
<DataProperties>
<itemProps>
<itemName Sync="FALSE">NAIP_17</itemName>
<imsContentType Sync="TRUE">002</imsContentType>
<nativeExtBox>
<westBL Sync="TRUE">2875227.424397</westBL>
<eastBL Sync="TRUE">3036650.986063</eastBL>
<southBL Sync="TRUE">1627865.242119</southBL>
<northBL Sync="TRUE">1745328.917952</northBL>
<exTypeCode Sync="TRUE">1</exTypeCode>
</nativeExtBox>
</itemProps>
<coordRef>
<type Sync="TRUE">Projected</type>
<geogcsn Sync="TRUE">GCS_NAD_1983_2011</geogcsn>
<csUnits Sync="TRUE">Linear Unit: Foot_US (0.304801)</csUnits>
<projcsn Sync="TRUE">NAD_1983_2011_StatePlane_Colorado_Central_FIPS_0502_Ft_US</projcsn>
<peXml Sync="TRUE">&lt;ProjectedCoordinateSystem xsi:type='typens:ProjectedCoordinateSystem' xmlns:xsi='http://www.w3.org/2001/XMLSchema-instance' xmlns:xs='http://www.w3.org/2001/XMLSchema' xmlns:typens='http://www.esri.com/schemas/ArcGIS/10.5'&gt;&lt;WKT&gt;PROJCS[&amp;quot;NAD_1983_2011_StatePlane_Colorado_Central_FIPS_0502_Ft_US&amp;quot;,GEOGCS[&amp;quot;GCS_NAD_1983_2011&amp;quot;,DATUM[&amp;quot;D_NAD_1983_2011&amp;quot;,SPHEROID[&amp;quot;GRS_1980&amp;quot;,6378137.0,298.257222101]],PRIMEM[&amp;quot;Greenwich&amp;quot;,0.0],UNIT[&amp;quot;Degree&amp;quot;,0.0174532925199433]],PROJECTION[&amp;quot;Lambert_Conformal_Conic&amp;quot;],PARAMETER[&amp;quot;False_Easting&amp;quot;,3000000.000316083],PARAMETER[&amp;quot;False_Northing&amp;quot;,999999.999996],PARAMETER[&amp;quot;Central_Meridian&amp;quot;,-105.5],PARAMETER[&amp;quot;Standard_Parallel_1&amp;quot;,38.45],PARAMETER[&amp;quot;Standard_Parallel_2&amp;quot;,39.75],PARAMETER[&amp;quot;Latitude_Of_Origin&amp;quot;,37.83333333333334],UNIT[&amp;quot;Foot_US&amp;quot;,0.3048006096012192],AUTHORITY[&amp;quot;EPSG&amp;quot;,6428]]&lt;/WKT&gt;&lt;XOrigin&gt;-118767900&lt;/XOrigin&gt;&lt;YOrigin&gt;-94525500&lt;/YOrigin&gt;&lt;XYScale&gt;36985113.707064793&lt;/XYScale&gt;&lt;ZOrigin&gt;-100000&lt;/ZOrigin&gt;&lt;ZScale&gt;10000&lt;/ZScale&gt;&lt;MOrigin&gt;-100000&lt;/MOrigin&gt;&lt;MScale&gt;10000&lt;/MScale&gt;&lt;XYTolerance&gt;0.0032808333333333331&lt;/XYTolerance&gt;&lt;ZTolerance&gt;0.00020000000000000001&lt;/ZTolerance&gt;&lt;MTolerance&gt;0.00020000000000000001&lt;/MTolerance&gt;&lt;HighPrecision&gt;true&lt;/HighPrecision&gt;&lt;WKID&gt;103013&lt;/WKID&gt;&lt;LatestWKID&gt;6428&lt;/LatestWKID&gt;&lt;/ProjectedCoordinateSystem&gt;</peXml>
</coordRef>
<RasterProperties>
<General>
<PixelDepth Sync="TRUE">8</PixelDepth>
<HasColormap Sync="TRUE">FALSE</HasColormap>
<CompressionType Sync="TRUE">LZW</CompressionType>
<NumBands Sync="TRUE">3</NumBands>
<Format Sync="TRUE">TIFF</Format>
<HasPyramids Sync="TRUE">TRUE</HasPyramids>
<SourceType Sync="TRUE">continuous</SourceType>
<PixelType Sync="TRUE">unsigned integer</PixelType>
<NoDataValue Sync="TRUE">256</NoDataValue>
</General>
</RasterProperties>
</DataProperties>
<SyncDate>20180716</SyncDate>
<SyncTime>12511700</SyncTime>
<ModDate>20180716</ModDate>
<ModTime>12511700</ModTime>
</Esri>
<distInfo>
<distFormat>
<formatName Sync="FALSE">Raster Dataset</formatName>
</distFormat>
</distInfo>
<mdHrLv>
<ScopeCd Sync="TRUE" value="005">
</ScopeCd>
</mdHrLv>
<mdHrLvName Sync="TRUE">dataset</mdHrLvName>
<refSysInfo>
<RefSystem>
<refSysID>
<identCode Sync="TRUE" code="6428">
</identCode>
<idCodeSpace Sync="TRUE">EPSG</idCodeSpace>
<idVersion Sync="TRUE">8.9.3(10.3.1)</idVersion>
</refSysID>
</RefSystem>
</refSysInfo>
<spatRepInfo>
<Georect>
<cellGeo>
<CellGeoCd Sync="TRUE" value="002">
</CellGeoCd>
</cellGeo>
<numDims Sync="TRUE">2</numDims>
<tranParaAv Sync="TRUE">1</tranParaAv>
<chkPtAv Sync="TRUE">0</chkPtAv>
<cornerPts>
<pos Sync="TRUE">2875227.424397 1627865.242119</pos>
</cornerPts>
<cornerPts>
<pos Sync="TRUE">2875227.424397 1745328.917952</pos>
</cornerPts>
<cornerPts>
<pos Sync="TRUE">3036650.986063 1745328.917952</pos>
</cornerPts>
<cornerPts>
<pos Sync="TRUE">3036650.986063 1627865.242119</pos>
</cornerPts>
<centerPt>
<pos Sync="TRUE">2955939.205230 1686597.080035</pos>
</centerPt>
<axisDimension type="002">
<dimSize Sync="TRUE">49202</dimSize>
<dimResol>
<value Sync="TRUE" uom="ftUS">3.280833</value>
</dimResol>
</axisDimension>
<axisDimension type="001">
<dimSize Sync="TRUE">35803</dimSize>
<dimResol>
<value Sync="TRUE" uom="ftUS">3.280833</value>
</dimResol>
</axisDimension>
<ptInPixel>
<PixOrientCd Sync="TRUE" value="001">
</PixOrientCd>
</ptInPixel>
</Georect>
</spatRepInfo>
<contInfo>
<ImgDesc>
<contentTyp>
<ContentTypCd Sync="TRUE" value="001">
</ContentTypCd>
</contentTyp>
<covDim>
<Band>
<dimDescrp Sync="TRUE">Band_1</dimDescrp>
<maxVal Sync="TRUE">251.000000</maxVal>
<minVal Sync="TRUE">0.000000</minVal>
<bitsPerVal Sync="TRUE">8</bitsPerVal>
<valUnit>
<UOM type="length">
</UOM>
</valUnit>
</Band>
<Band>
<dimDescrp Sync="TRUE">Band_2</dimDescrp>
<maxVal Sync="TRUE">246.000000</maxVal>
<minVal Sync="TRUE">0.000000</minVal>
<bitsPerVal Sync="TRUE">8</bitsPerVal>
<valUnit>
<UOM type="length">
</UOM>
</valUnit>
</Band>
<Band>
<dimDescrp Sync="TRUE">Band_3</dimDescrp>
<maxVal Sync="TRUE">247.000000</maxVal>
<minVal Sync="TRUE">0.000000</minVal>
<bitsPerVal Sync="TRUE">8</bitsPerVal>
<valUnit>
<UOM type="length">
</UOM>
</valUnit>
</Band>
</covDim>
</ImgDesc>
</contInfo>
<mdDateSt Sync="TRUE">20180716</mdDateSt>
</metadata>
