<?xml version="1.0" encoding="UTF-8" standalone="no"?>
<metadata xml:lang="en">
<Esri>
<MetaID>{2882488B-09E5-42FF-927A-F3B27F91264A}</MetaID>
<CreaDate>20080506</CreaDate>
<CreaTime>16343300</CreaTime>
<SyncOnce>FALSE</SyncOnce>
<SyncDate>20141211</SyncDate>
<SyncTime>13403700</SyncTime>
<ModDate>20141211</ModDate>
<ModTime>13403700</ModTime>
<DataProperties>
<itemProps>
<itemName Sync="FALSE">Hist_1957</itemName>
<imsContentType Sync="TRUE">002</imsContentType>
<nativeExtBox>
<westBL Sync="TRUE">2874567.122152</westBL>
<eastBL Sync="TRUE">3041777.062934</eastBL>
<southBL Sync="TRUE">1635212.565963</southBL>
<northBL Sync="TRUE">1745983.297042</northBL>
<exTypeCode Sync="TRUE">1</exTypeCode>
</nativeExtBox>
</itemProps>
<coordRef>
<type Sync="TRUE">Projected</type>
<geogcsn Sync="TRUE">GCS_NAD_1983_2011</geogcsn>
<csUnits Sync="TRUE">Linear Unit: Foot_US (0.304801)</csUnits>
<projcsn Sync="TRUE">NAD_1983_2011_StatePlane_Colorado_Central_FIPS_0502_Ft_US</projcsn>
<peXml Sync="TRUE">&lt;ProjectedCoordinateSystem xsi:type='typens:ProjectedCoordinateSystem' xmlns:xsi='http://www.w3.org/2001/XMLSchema-instance' xmlns:xs='http://www.w3.org/2001/XMLSchema' xmlns:typens='http://www.esri.com/schemas/ArcGIS/10.1'&gt;&lt;WKT&gt;PROJCS[&amp;quot;NAD_1983_2011_StatePlane_Colorado_Central_FIPS_0502_Ft_US&amp;quot;,GEOGCS[&amp;quot;GCS_NAD_1983_2011&amp;quot;,DATUM[&amp;quot;D_NAD_1983_2011&amp;quot;,SPHEROID[&amp;quot;GRS_1980&amp;quot;,6378137.0,298.257222101]],PRIMEM[&amp;quot;Greenwich&amp;quot;,0.0],UNIT[&amp;quot;Degree&amp;quot;,0.0174532925199433]],PROJECTION[&amp;quot;Lambert_Conformal_Conic&amp;quot;],PARAMETER[&amp;quot;False_Easting&amp;quot;,3000000.000316083],PARAMETER[&amp;quot;False_Northing&amp;quot;,999999.999996],PARAMETER[&amp;quot;Central_Meridian&amp;quot;,-105.5],PARAMETER[&amp;quot;Standard_Parallel_1&amp;quot;,38.45],PARAMETER[&amp;quot;Standard_Parallel_2&amp;quot;,39.75],PARAMETER[&amp;quot;Latitude_Of_Origin&amp;quot;,37.83333333333334],UNIT[&amp;quot;Foot_US&amp;quot;,0.3048006096012192],AUTHORITY[&amp;quot;ESRI&amp;quot;,103013]]&lt;/WKT&gt;&lt;XOrigin&gt;-118767900&lt;/XOrigin&gt;&lt;YOrigin&gt;-94525500&lt;/YOrigin&gt;&lt;XYScale&gt;36985113.707064793&lt;/XYScale&gt;&lt;ZOrigin&gt;-100000&lt;/ZOrigin&gt;&lt;ZScale&gt;10000&lt;/ZScale&gt;&lt;MOrigin&gt;-100000&lt;/MOrigin&gt;&lt;MScale&gt;10000&lt;/MScale&gt;&lt;XYTolerance&gt;0.0032808333333333331&lt;/XYTolerance&gt;&lt;ZTolerance&gt;0.00020000000000000001&lt;/ZTolerance&gt;&lt;MTolerance&gt;0.00020000000000000001&lt;/MTolerance&gt;&lt;HighPrecision&gt;true&lt;/HighPrecision&gt;&lt;WKID&gt;103013&lt;/WKID&gt;&lt;LatestWKID&gt;103013&lt;/LatestWKID&gt;&lt;/ProjectedCoordinateSystem&gt;</peXml>
</coordRef>
</DataProperties>
</Esri>
<idinfo>
<citation>
<citeinfo>
<onlink Sync="FALSE">withheld</onlink>
<origin>REQUIRED: The name of an organization or individual that developed the data set.</origin>
<pubdate>REQUIRED: The date when the data set is published or otherwise made available for release.</pubdate>
<title Sync="FALSE">tif</title>
<ftname Sync="FALSE">tif</ftname>
<geoform Sync="TRUE">remote-sensing image</geoform>
</citeinfo>
</citation>
<native Sync="FALSE">ESRI ArcCatalog 9.3.1.3000</native>
<descript>
<langdata Sync="TRUE">en</langdata>
<abstract>REQUIRED: A brief narrative summary of the data set.</abstract>
<purpose>REQUIRED: A summary of the intentions with which the data set was developed.</purpose>
</descript>
<timeperd>
<current>REQUIRED: The basis on which the time period of content information is determined.</current>
<timeinfo>
<sngdate>
<caldate>REQUIRED: The year (and optionally month, or month and day) for which the data set corresponds to the ground.</caldate>
</sngdate>
</timeinfo>
</timeperd>
<status>
<progress>REQUIRED: The state of the data set.</progress>
<update>REQUIRED: The frequency with which changes and additions are made to the data set after the initial data set is completed.</update>
</status>
<spdom>
<bounding>
<westbc Sync="TRUE">REQUIRED: Western-most coordinate of the limit of coverage expressed in longitude.</westbc>
<eastbc Sync="TRUE">REQUIRED: Eastern-most coordinate of the limit of coverage expressed in longitude.</eastbc>
<northbc Sync="TRUE">REQUIRED: Northern-most coordinate of the limit of coverage expressed in latitude.</northbc>
<southbc Sync="TRUE">REQUIRED: Southern-most coordinate of the limit of coverage expressed in latitude.</southbc>
</bounding>
<lboundng>
<leftbc Sync="TRUE">2874567.122152</leftbc>
<rightbc Sync="TRUE">3041777.062934</rightbc>
<bottombc Sync="TRUE">1635212.565963</bottombc>
<topbc Sync="TRUE">1745983.297042</topbc>
</lboundng>
</spdom>
<keywords>
<theme>
<themekt>REQUIRED: Reference to a formally registered thesaurus or a similar authoritative source of theme keywords.</themekt>
<themekey>REQUIRED: Common-use word or phrase used to describe the subject of the data set.</themekey>
</theme>
</keywords>
<accconst>REQUIRED: Restrictions and legal prerequisites for accessing the data set.</accconst>
<useconst>REQUIRED: Restrictions and legal prerequisites for using the data set after access is granted.</useconst>
<natvform Sync="TRUE">Raster Dataset</natvform>
</idinfo>
<distInfo>
<distributor>
<distorTran>
<onLineSrc>
<linkage Sync="FALSE">withheld</linkage>
<protocol Sync="TRUE">Local Area Network</protocol>
<orDesc Sync="TRUE">002</orDesc>
</onLineSrc>
<transSize Sync="TRUE">0.000</transSize>
</distorTran>
<distorFormat>
<formatName Sync="TRUE">Raster Dataset</formatName>
</distorFormat>
</distributor>
<distFormat>
<formatName Sync="FALSE">Raster Dataset</formatName>
</distFormat>
</distInfo>
<dataqual>
<lineage>
<procstep>
<procdesc Sync="TRUE">Dataset moved.</procdesc>
<srcused Sync="FALSE">withheld</srcused>
<date Sync="TRUE">20080506</date>
<time Sync="TRUE">16343300</time>
</procstep>
</lineage>
</dataqual>
<dataIdInfo>
<envirDesc Sync="FALSE">Esri ArcGIS 10.2.2.3574</envirDesc>
<dataLang>
<languageCode Sync="TRUE" country="USA" value="eng">
</languageCode>
<countryCode Sync="TRUE" value="USA">
</countryCode>
</dataLang>
<idCitation>
<resTitle Sync="FALSE">torreys.SDE_LOADER.Hist_1957</resTitle>
<presForm>
<PresFormCd Sync="TRUE" value="011">
</PresFormCd>
</presForm>
</idCitation>
<spatRpType>
<SpatRepTypCd Sync="TRUE" value="002">
</SpatRepTypCd>
</spatRpType>
<dataExt>
<geoEle>
<GeoBndBox esriExtentType="native">
<westBL Sync="TRUE">2874567.122152</westBL>
<eastBL Sync="TRUE">3041777.062934</eastBL>
<northBL Sync="TRUE">1745983.297042</northBL>
<southBL Sync="TRUE">1635212.565963</southBL>
<exTypeCode Sync="TRUE">1</exTypeCode>
</GeoBndBox>
</geoEle>
</dataExt>
<descKeys>
<thesaName uuidref="723f6998-058e-11dc-8314-0800200c9a66">
</thesaName>
<keyword Sync="TRUE">002</keyword>
</descKeys>
<dataExt>
<geoEle>
<GeoBndBox esriExtentType="search">
<exTypeCode Sync="TRUE">1</exTypeCode>
<westBL Sync="TRUE">-105.946926</westBL>
<eastBL Sync="TRUE">-105.351144</eastBL>
<northBL Sync="TRUE">39.881536</northBL>
<southBL Sync="TRUE">39.576601</southBL>
</GeoBndBox>
</geoEle>
</dataExt>
<idAbs>Imagery from 1957 for the Interstate 70 corridor in Clear Creek County.</idAbs>
<searchKeys>
<keyword>1957</keyword>
<keyword>Imagery</keyword>
<keyword>Hist</keyword>
</searchKeys>
<idPurp>Imagery from 1957 for the Interstate 70 corridor in Clear Creek County.</idPurp>
<idCredit/>
<resConst>
<Consts>
<useLimit/>
</Consts>
</resConst>
</dataIdInfo>
<metainfo>
<langmeta Sync="TRUE">en</langmeta>
<metstdn Sync="TRUE">FGDC Content Standards for Digital Geospatial Metadata</metstdn>
<metstdv Sync="TRUE">FGDC-STD-001-1998</metstdv>
<mettc Sync="TRUE">local time</mettc>
<metc>
<cntinfo>
<cntorgp>
<cntper>REQUIRED: The person responsible for the metadata information.</cntper>
<cntorg>REQUIRED: The organization responsible for the metadata information.</cntorg>
</cntorgp>
<cntaddr>
<addrtype>REQUIRED: The mailing and/or physical address for the organization or individual.</addrtype>
<city>REQUIRED: The city of the address.</city>
<state>REQUIRED: The state or province of the address.</state>
<postal>REQUIRED: The ZIP or other postal code of the address.</postal>
</cntaddr>
<cntvoice>REQUIRED: The telephone number by which individuals can speak to the organization or individual.</cntvoice>
</cntinfo>
</metc>
<metd Sync="TRUE">20100121</metd>
</metainfo>
<mdLang>
<languageCode Sync="TRUE" value="eng">
</languageCode>
<countryCode Sync="TRUE" value="USA">
</countryCode>
</mdLang>
<mdStanName Sync="TRUE">ISO 19115 Geographic Information - Metadata</mdStanName>
<mdStanVer Sync="TRUE">DIS_ESRI1.0</mdStanVer>
<mdChar>
<CharSetCd Sync="TRUE" value="004">
</CharSetCd>
</mdChar>
<mdHrLv>
<ScopeCd Sync="TRUE" value="005">
</ScopeCd>
</mdHrLv>
<mdHrLvName Sync="TRUE">dataset</mdHrLvName>
<distinfo>
<resdesc Sync="TRUE">Downloadable Data</resdesc>
<stdorder>
<digform>
<digtinfo>
<transize Sync="TRUE">0.000</transize>
<dssize Sync="TRUE">0.000</dssize>
</digtinfo>
</digform>
</stdorder>
</distinfo>
<spdoinfo>
<direct Sync="TRUE">Raster</direct>
<rastinfo>
<rasttype Sync="TRUE">Pixel</rasttype>
<rowcount Sync="TRUE">11825</rowcount>
<colcount Sync="TRUE">17850</colcount>
<rastxsz Sync="TRUE">9.367504</rastxsz>
<rastysz Sync="TRUE">9.367504</rastysz>
<rastbpp Sync="TRUE">8</rastbpp>
<vrtcount Sync="TRUE">1</vrtcount>
<rastorig Sync="TRUE">Upper Left</rastorig>
<rastcmap Sync="TRUE">FALSE</rastcmap>
<rastcomp Sync="TRUE">LZ77</rastcomp>
<rastband Sync="TRUE">1</rastband>
<rastdtyp Sync="TRUE">pixel codes</rastdtyp>
<rastplyr Sync="TRUE">TRUE</rastplyr>
<rastifor Sync="TRUE">SDR</rastifor>
</rastinfo>
</spdoinfo>
<spatRepInfo>
<GridSpatRep>
<numDims Sync="TRUE">2</numDims>
<axDimProps>
<Dimen>
<dimName>
<DimNameTypCd Sync="TRUE" value="002">
</DimNameTypCd>
</dimName>
<dimSize Sync="TRUE">17850</dimSize>
<dimResol>
<value Sync="TRUE">9.367504</value>
<uom>
<UomLength>
<uomName Sync="TRUE">unknown</uomName>
</UomLength>
</uom>
</dimResol>
</Dimen>
<Dimen>
<dimName>
<DimNameTypCd Sync="TRUE" value="001">
</DimNameTypCd>
</dimName>
<dimSize Sync="TRUE">11825</dimSize>
<dimResol>
<value Sync="TRUE">9.367504</value>
<uom>
<UomLength>
<uomName Sync="TRUE">unknown</uomName>
</UomLength>
</uom>
</dimResol>
</Dimen>
</axDimProps>
<cellGeo>
<CellGeoCd Sync="TRUE" value="002">
</CellGeoCd>
</cellGeo>
<tranParaAv Sync="TRUE">1</tranParaAv>
</GridSpatRep>
</spatRepInfo>
<spref>
<horizsys>
<planar>
<planci>
<plance Sync="TRUE">row and column</plance>
<coordrep>
<absres Sync="TRUE">9.367504</absres>
<ordres Sync="TRUE">9.367504</ordres>
</coordrep>
</planci>
</planar>
</horizsys>
</spref>
<mdDateSt Sync="TRUE">20141211</mdDateSt>
<refSysInfo>
<RefSystem>
<refSysID>
<identCode Sync="TRUE" code="103013">
</identCode>
<idCodeSpace Sync="TRUE">ESRI</idCodeSpace>
<idVersion Sync="TRUE">10.2.1</idVersion>
</refSysID>
</RefSystem>
</refSysInfo>
</metadata>
