<?xml version="1.0" encoding="UTF-8" standalone="no"?>
<metadata>
<idinfo>
<citation>
<citeinfo>
<origin>U.S. Geological Survey</origin>
<pubdate>1903</pubdate>
<title>USGS 1:62500-scale Quadrangle for Georgetown, CO 1903</title>
<geoform>Scanned Map in GeoTIFF format</geoform>
<pubinfo>
<pubplace>Reston, Virginia</pubplace>
<publish>U.S. Geological Survey</publish>
</pubinfo>
<onlink>http://ngmdb.usgs.gov/ht-bin/tv_download.pl?id=5358411&amp;tif=true</onlink>
<lworkcit>
<citeinfo>
<origin>U.S. Geological Survey</origin>
<pubdate>2006</pubdate>
<title>Historical Topographic Maps 15 X 15 Minute Map Series</title>
<onlink>https://www.sciencebase.gov/catalog/item/?scheme=gda&amp;type=id&amp;key=5358411</onlink>
</citeinfo>
</lworkcit>
</citeinfo>
</citation>
<descript>
<abstract>USGS Historical Quadrangle in GeoTIFF format.</abstract>
<purpose>The USGS Historical Quadrangle Scanning Project (HQSP) is scanning all scales and all editions of topographic maps published by the U.S. Geological Survey (USGS) since the inception of the topographic mapping program in 1884.</purpose>
<supplinf>Map Name: Georgetown, CO; Scan Filename: CO_Georgetown_233064_1903_62500_geo.tif; Raster Resolution: 300 PPI; Woodland Tint = N; NOTE: Bounding Coordinates identified in FGDC metadata are associated with the GNIS Cell ID; {"gdaId" : 5358411, "cellId" : 54547, "scale" : 62500, "pageWidth" : 16.5, "pageHeight" : 20.9}</supplinf>
</descript>
<timeperd>
<timeinfo>
<rngdates>
<begdate>1888</begdate>
<enddate>1903</enddate>
</rngdates>
</timeinfo>
<current>publication date</current>
</timeperd>
<status>
<progress>Complete</progress>
<update>None planned</update>
</status>
<spdom>
<bounding>
<westbc>-105.75</westbc>
<eastbc>-105.5</eastbc>
<northbc>39.75</northbc>
<southbc>39.5</southbc>
</bounding>
</spdom>
<keywords>
<theme>
<themekt>ISO 19115 Topic Category</themekt>
<themekey>imageryBaseMapsEarthCover</themekey>
</theme>
<theme>
<themekt>The National Map Type Thesaurus</themekt>
<themekey>Downloadable Data</themekey>
</theme>
<theme>
<themekt>The National Map Theme Thesaurus</themekt>
<themekey>Map</themekey>
</theme>
<theme>
<themekt>The National Map Collection Thesaurus</themekt>
<themekey>Historical Topographic Maps 15 X 15 Minute Map Series</themekey>
<themekey>Historical Topographic Maps</themekey>
</theme>
<theme>
<themekt>The National Map Product Extent Thesaurus</themekt>
<themekey>15 X 15 Minute</themekey>
</theme>
<theme>
<themekt>The National Map Product Format Thesaurus</themekt>
<themekey>GeoTIFF</themekey>
</theme>
<place>
<placekt>Geographic Names Information System</placekt>
<placekey>CO</placekey>
<placekey>Georgetown</placekey>
</place>
</keywords>
<accconst>None</accconst>
<useconst>None. However, users should be aware that temporal changes may have occurred since this map was originally produced and that some parts of this data may no longer represent actual surface conditions. Users should not use this data for critical applications without a full awareness of its limitations.</useconst>
<ptcontac>
<cntinfo>
<cntorgp>
<cntorg>U.S. Geological Survey</cntorg>
</cntorgp>
<cntaddr>
<addrtype>physical</addrtype>
<address>12201 Sunrise Valley Drive</address>
<city>Reston</city>
<state>Virginia</state>
<postal>20192</postal>
<country>USA</country>
</cntaddr>
<cntvoice>1-888-ASK-USGS (1-888-275-8747)</cntvoice>
<hours>Monday through Friday 8:00 AM to 4:00 PM Eastern Time Zone USA</hours>
<cntinst>Please visit http://www.usgs.gov/ask/ to contact us.</cntinst>
</cntinfo>
</ptcontac>
<browse>
<browsen>http://thor-f5.er.usgs.gov/ngtoc/metadata/htmc/thumbnails/CO/62500/CO_Georgetown_233064_1903_62500_tn.jpg</browsen>
<browsed>Thumbnail JPEG image of map</browsed>
<browset>JPEG</browset>
</browse>
<datacred>Acknowledgement of the U.S. Geological Survey is expected for products derived from these data.</datacred>
</idinfo>
<dataqual>
<logic>A logical consistency report is not applicable to raster data sets.</logic>
<complete>Complete topographic representation.</complete>
<posacc>
<horizpa>
<horizpar>The digital GeoTIFF version of the historical map was georeferenced with a methodology that preserves, but does not exceed, the accuracy of the original map. The historical map product was compiled to meet National Map Accuracy Standards (NMAS) of the era when the map was originally published.</horizpar>
</horizpa>
</posacc>
<lineage>
<srcinfo>
<srccite>
<citeinfo>
<origin>USGS</origin>
<pubdate>1903</pubdate>
<title>Original Paper Map</title>
<othercit>Georgetown, CO; U.S. Department of the Interior, USGS Scanned Historical Quadrangle Standard, Version 1.0.</othercit>
</citeinfo>
</srccite>
<srcscale>62500</srcscale>
<typesrc>paper</typesrc>
<srctime>
<timeinfo>
<sngdate>
<caldate>1903</caldate>
</sngdate>
</timeinfo>
<srccurr>publication date</srccurr>
</srctime>
<srccitea>map</srccitea>
<srccontr>USGS provided the scanned copy of the historical quadrangle.</srccontr>
</srcinfo>
<procstep>
<procdesc>The GeoTIFF for the scanned Historical Quadrangles are produced using the following steps. Historical Quadrangles are scanned typically at 600 PPI (minimum of 400 PPI). Metadata is collected from the information printed in the map collar. Scanned TIFF images are georeferenced to the original map datum, and reprojected to the original map projection. The final GeoTIFF file is downsampled to 300 PPI, compressed, and zipped with an external metadata file. Any use of trade, product, or firm names in this publication is for descriptive purposes only and does not imply endorsement by the U.S. Government.</procdesc>
<procdate>2014</procdate>
</procstep>
<procstep>
<procdesc>Date on Map</procdesc>
<procdate>1903</procdate>
</procstep>
<procstep>
<procdesc>Survey Year</procdesc>
<procdate>1888</procdate>
</procstep>
</lineage>
</dataqual>
<spref>
<horizsys>
<planar>
<planci>
<plance>row and column</plance>
<coordrep>
<absres>5.3</absres>
<ordres>5.3</ordres>
</coordrep>
<plandu>Meters</plandu>
</planci>
</planar>
<geodetic>
<horizdn>D_North_American_1927</horizdn>
<ellips>Clarke 1866</ellips>
<semiaxis>6378206.4</semiaxis>
<denflat>294.9786982</denflat>
</geodetic>
</horizsys>
</spref>
<distinfo>
<distrib>
<cntinfo>
<cntorgp>
<cntorg>U.S. Geological Survey</cntorg>
</cntorgp>
<cntaddr>
<addrtype>physical</addrtype>
<address>12201 Sunrise Valley Drive</address>
<city>Reston</city>
<state>Virginia</state>
<postal>20192</postal>
<country>USA</country>
</cntaddr>
<cntvoice>1-888-ASK-USGS (1-888-275-8747)</cntvoice>
<hours>Monday through Friday 8:00 AM to 4:00 PM Eastern Time Zone USA</hours>
<cntinst>Please visit http://www.usgs.gov/ask/ to contact us.</cntinst>
</cntinfo>
</distrib>
<resdesc>Downloadable Data</resdesc>
<distliab>Although these data have been processed successfully on a computer system at the U.S. Geological Survey, no warranty expressed or implied is made regarding the accuracy or utility of the data on any other system or for general or scientific purposes, nor shall the act of distribution constitute any such warranty. This disclaimer applies both to individual use of the data and aggregate use with other data. It is strongly recommended that these data are directly acquired from a U.S. Geological Survey server, and not indirectly through other sources which may have changed the data in some way. It is also strongly recommended that careful attention be paid to the contents of the metadata file associated with these data. The U.S. Geological Survey shall not be held liable for improper or incorrect use of the data described and/or contained herein.</distliab>
<stdorder>
<digform>
<digtinfo>
<formname>GeoTIFF</formname>
<transize>8046694</transize>
</digtinfo>
<digtopt>
<onlinopt>
<computer>
<networka>
<networkr>http://ngmdb.usgs.gov/ht-bin/tv_download.pl?id=5358411&amp;tif=true</networkr>
</networka>
</computer>
</onlinopt>
</digtopt>
</digform>
<fees>None</fees>
</stdorder>
</distinfo>
<metainfo>
<metd>20150209</metd>
<metc>
<cntinfo>
<cntorgp>
<cntorg>U.S. Geological Survey</cntorg>
</cntorgp>
<cntaddr>
<addrtype>physical</addrtype>
<address>12201 Sunrise Valley Drive</address>
<city>Reston</city>
<state>Virginia</state>
<postal>20192</postal>
<country>USA</country>
</cntaddr>
<cntvoice>1-888-ASK-USGS (1-888-275-8747)</cntvoice>
<hours>Monday through Friday 8:00 AM to 4:00 PM Eastern Time Zone USA</hours>
<cntinst>Please visit http://www.usgs.gov/ask/ to contact us.</cntinst>
</cntinfo>
</metc>
<metstdn>FGDC Content Standard for Digital Geospatial Metadata</metstdn>
<metstdv>FGDC-STD-001-1998</metstdv>
</metainfo>
<dataIdInfo>
<envirDesc Sync="FALSE">Esri ArcGIS 10.3.0.4322</envirDesc>
<dataLang>
<languageCode Sync="TRUE" value="eng">
</languageCode>
<countryCode Sync="TRUE" value="USA">
</countryCode>
</dataLang>
<idCitation>
<resTitle Sync="TRUE">CO_Georgetown_1903.tif</resTitle>
<presForm>
<PresFormCd Sync="TRUE" value="005">
</PresFormCd>
</presForm>
</idCitation>
<spatRpType>
<SpatRepTypCd Sync="TRUE" value="002">
</SpatRepTypCd>
</spatRpType>
<dataExt>
<geoEle>
<GeoBndBox esriExtentType="search">
<exTypeCode Sync="TRUE">1</exTypeCode>
<westBL Sync="TRUE">-105.780906</westBL>
<eastBL Sync="TRUE">-105.474633</eastBL>
<northBL Sync="TRUE">39.770568</northBL>
<southBL Sync="TRUE">39.471394</southBL>
</GeoBndBox>
</geoEle>
</dataExt>
<idAbs>USGS Historical Quadrangle in GeoTIFF format.</idAbs>
<searchKeys>
<keyword>CO</keyword>
<keyword>Georgetown</keyword>
<keyword>imageryBaseMapsEarthCover</keyword>
<keyword>Downloadable Data</keyword>
<keyword>Map</keyword>
<keyword>Historical Topographic Maps 15 X 15 Minute Map Series</keyword>
<keyword>Historical Topographic Maps</keyword>
<keyword>15 X 15 Minute</keyword>
<keyword>GeoTIFF</keyword>
</searchKeys>
<idPurp>The USGS Historical Quadrangle Scanning Project (HQSP) is scanning all scales and all editions of topographic maps published by the U.S. Geological Survey...</idPurp>
<idCredit/>
<resConst>
<Consts>
<useLimit/>
</Consts>
</resConst>
</dataIdInfo>
<mdLang>
<languageCode Sync="TRUE" value="eng">
</languageCode>
<countryCode Sync="TRUE" value="USA">
</countryCode>
</mdLang>
<mdChar>
<CharSetCd Sync="TRUE" value="004">
</CharSetCd>
</mdChar>
<Esri>
<DataProperties>
<itemProps>
<itemName Sync="TRUE">CO_Georgetown_1903.tif</itemName>
<imsContentType Sync="TRUE">002</imsContentType>
<nativeExtBox>
<westBL Sync="TRUE">2921037.205809</westBL>
<eastBL Sync="TRUE">3007130.783622</eastBL>
<southBL Sync="TRUE">1596706.006310</southBL>
<northBL Sync="TRUE">1705559.955269</northBL>
<exTypeCode Sync="TRUE">1</exTypeCode>
</nativeExtBox>
</itemProps>
<coordRef>
<type Sync="TRUE">Projected</type>
<geogcsn Sync="TRUE">GCS_NAD_1983_2011</geogcsn>
<csUnits Sync="TRUE">Linear Unit: Foot_US (0.304801)</csUnits>
<projcsn Sync="TRUE">NAD_1983_2011_StatePlane_Colorado_Central_FIPS_0502_Ft_US</projcsn>
<peXml Sync="TRUE">&lt;ProjectedCoordinateSystem xsi:type='typens:ProjectedCoordinateSystem' xmlns:xsi='http://www.w3.org/2001/XMLSchema-instance' xmlns:xs='http://www.w3.org/2001/XMLSchema' xmlns:typens='http://www.esri.com/schemas/ArcGIS/10.3'&gt;&lt;WKT&gt;PROJCS[&amp;quot;NAD_1983_2011_StatePlane_Colorado_Central_FIPS_0502_Ft_US&amp;quot;,GEOGCS[&amp;quot;GCS_NAD_1983_2011&amp;quot;,DATUM[&amp;quot;D_NAD_1983_2011&amp;quot;,SPHEROID[&amp;quot;GRS_1980&amp;quot;,6378137.0,298.257222101]],PRIMEM[&amp;quot;Greenwich&amp;quot;,0.0],UNIT[&amp;quot;Degree&amp;quot;,0.0174532925199433]],PROJECTION[&amp;quot;Lambert_Conformal_Conic&amp;quot;],PARAMETER[&amp;quot;False_Easting&amp;quot;,3000000.000316083],PARAMETER[&amp;quot;False_Northing&amp;quot;,999999.999996],PARAMETER[&amp;quot;Central_Meridian&amp;quot;,-105.5],PARAMETER[&amp;quot;Standard_Parallel_1&amp;quot;,38.45],PARAMETER[&amp;quot;Standard_Parallel_2&amp;quot;,39.75],PARAMETER[&amp;quot;Latitude_Of_Origin&amp;quot;,37.83333333333334],UNIT[&amp;quot;Foot_US&amp;quot;,0.3048006096012192],AUTHORITY[&amp;quot;ESRI&amp;quot;,103013]],VERTCS[&amp;quot;NAVD_1988_Foot_US&amp;quot;,VDATUM[&amp;quot;North_American_Vertical_Datum_1988&amp;quot;],PARAMETER[&amp;quot;Vertical_Shift&amp;quot;,0.0],PARAMETER[&amp;quot;Direction&amp;quot;,1.0],UNIT[&amp;quot;Foot_US&amp;quot;,0.3048006096012192],AUTHORITY[&amp;quot;ESRI&amp;quot;,105703]]&lt;/WKT&gt;&lt;XOrigin&gt;-118767900&lt;/XOrigin&gt;&lt;YOrigin&gt;-94525500&lt;/YOrigin&gt;&lt;XYScale&gt;36985113.707064793&lt;/XYScale&gt;&lt;ZOrigin&gt;-100000&lt;/ZOrigin&gt;&lt;ZScale&gt;3048.0060960121923&lt;/ZScale&gt;&lt;MOrigin&gt;-100000&lt;/MOrigin&gt;&lt;MScale&gt;10000&lt;/MScale&gt;&lt;XYTolerance&gt;0.0032808333333333331&lt;/XYTolerance&gt;&lt;ZTolerance&gt;0.0032808333333333331&lt;/ZTolerance&gt;&lt;MTolerance&gt;0.001&lt;/MTolerance&gt;&lt;HighPrecision&gt;true&lt;/HighPrecision&gt;&lt;WKID&gt;103013&lt;/WKID&gt;&lt;LatestWKID&gt;103013&lt;/LatestWKID&gt;&lt;VCSWKID&gt;105703&lt;/VCSWKID&gt;&lt;LatestVCSWKID&gt;105703&lt;/LatestVCSWKID&gt;&lt;/ProjectedCoordinateSystem&gt;</peXml>
</coordRef>
<RasterProperties>
<General>
<PixelDepth Sync="TRUE">8</PixelDepth>
<HasColormap Sync="TRUE">FALSE</HasColormap>
<CompressionType Sync="TRUE">LZW</CompressionType>
<NumBands Sync="TRUE">3</NumBands>
<Format Sync="TRUE">TIFF</Format>
<HasPyramids Sync="TRUE">TRUE</HasPyramids>
<SourceType Sync="TRUE">continuous</SourceType>
<PixelType Sync="TRUE">unsigned integer</PixelType>
<NoDataValue Sync="TRUE">256</NoDataValue>
</General>
</RasterProperties>
</DataProperties>
<SyncDate>20150922</SyncDate>
<SyncTime>08334800</SyncTime>
<ModDate>20150922</ModDate>
<ModTime>08334800</ModTime>
<CreaDate>20150922</CreaDate>
<CreaTime>11223100</CreaTime>
<ArcGISstyle>FGDC CSDGM Metadata</ArcGISstyle>
<SyncOnce>TRUE</SyncOnce>
</Esri>
<distInfo>
<distFormat>
<formatName Sync="TRUE">Raster Dataset</formatName>
</distFormat>
</distInfo>
<mdHrLv>
<ScopeCd Sync="TRUE" value="005">
</ScopeCd>
</mdHrLv>
<mdHrLvName Sync="TRUE">dataset</mdHrLvName>
<refSysInfo>
<RefSystem>
<refSysID>
<identCode Sync="TRUE" code="103013">
</identCode>
<idCodeSpace Sync="TRUE">ESRI</idCodeSpace>
<idVersion Sync="TRUE">10.2.1</idVersion>
</refSysID>
</RefSystem>
</refSysInfo>
<spatRepInfo>
<Georect>
<cellGeo>
<CellGeoCd Sync="TRUE" value="002">
</CellGeoCd>
</cellGeo>
<numDims Sync="TRUE">2</numDims>
<tranParaAv Sync="TRUE">1</tranParaAv>
<chkPtAv Sync="TRUE">0</chkPtAv>
<cornerPts>
<pos Sync="TRUE">2921037.205809 1596706.006310</pos>
</cornerPts>
<cornerPts>
<pos Sync="TRUE">2921037.205809 1705559.955269</pos>
</cornerPts>
<cornerPts>
<pos Sync="TRUE">3007130.783622 1705559.955269</pos>
</cornerPts>
<cornerPts>
<pos Sync="TRUE">3007130.783622 1596706.006310</pos>
</cornerPts>
<centerPt>
<pos Sync="TRUE">2964083.994716 1651132.980789</pos>
</centerPt>
<axisDimension type="002">
<dimSize Sync="TRUE">4959</dimSize>
<dimResol>
<value Sync="TRUE">17.361076</value>
</dimResol>
</axisDimension>
<axisDimension type="001">
<dimSize Sync="TRUE">6270</dimSize>
<dimResol>
<value Sync="TRUE">17.361076</value>
</dimResol>
</axisDimension>
<ptInPixel>
<PixOrientCd Sync="TRUE" value="001">
</PixOrientCd>
</ptInPixel>
</Georect>
</spatRepInfo>
<contInfo>
<ImgDesc>
<contentTyp>
<ContentTypCd Sync="TRUE" value="001">
</ContentTypCd>
</contentTyp>
<covDim>
<Band>
<dimDescrp Sync="TRUE">Band_1</dimDescrp>
<bitsPerVal Sync="TRUE">8</bitsPerVal>
</Band>
<Band>
<dimDescrp Sync="TRUE">Band_2</dimDescrp>
<bitsPerVal Sync="TRUE">8</bitsPerVal>
</Band>
<Band>
<dimDescrp Sync="TRUE">Band_3</dimDescrp>
<bitsPerVal Sync="TRUE">8</bitsPerVal>
</Band>
</covDim>
</ImgDesc>
</contInfo>
<mdDateSt Sync="TRUE">20150922</mdDateSt>
</metadata>
